BEGIN:VCALENDAR
VERSION:2.0
PRODID:-//Miami-Dade County Council of PTAs/PTSAs - ECPv6.15.20//NONSGML v1.0//EN
CALSCALE:GREGORIAN
METHOD:PUBLISH
X-ORIGINAL-URL:https://mdccpta.net
X-WR-CALDESC:Events for Miami-Dade County Council of PTAs/PTSAs
REFRESH-INTERVAL;VALUE=DURATION:PT1H
X-Robots-Tag:noindex
X-PUBLISHED-TTL:PT1H
BEGIN:VTIMEZONE
TZID:UTC
BEGIN:STANDARD
TZOFFSETFROM:+0000
TZOFFSETTO:+0000
TZNAME:UTC
DTSTART:20240101T000000
END:STANDARD
END:VTIMEZONE
BEGIN:VEVENT
DTSTART;TZID=UTC:20251001T080000
DTEND;TZID=UTC:20251130T170000
DTSTAMP:20260424T055122
CREATED:20251013T133938Z
LAST-MODIFIED:20251013T133938Z
UID:876-1759305600-1764522000@mdccpta.net
SUMMARY:🥂 Fall Mixer
DESCRIPTION:Ways to Support: \n·  Host or sponsor a venue for networking with parents and community leaders
URL:https://mdccpta.net/event/%f0%9f%a5%82-fall-mixer/
END:VEVENT
END:VCALENDAR