BEGIN:VCALENDAR
VERSION:2.0
PRODID:-//Miami-Dade County Council of PTAs/PTSAs - ECPv6.15.20//NONSGML v1.0//EN
CALSCALE:GREGORIAN
METHOD:PUBLISH
X-ORIGINAL-URL:https://mdccpta.net
X-WR-CALDESC:Events for Miami-Dade County Council of PTAs/PTSAs
REFRESH-INTERVAL;VALUE=DURATION:PT1H
X-Robots-Tag:noindex
X-PUBLISHED-TTL:PT1H
BEGIN:VTIMEZONE
TZID:UTC
BEGIN:STANDARD
TZOFFSETFROM:+0000
TZOFFSETTO:+0000
TZNAME:UTC
DTSTART:20250101T000000
END:STANDARD
END:VTIMEZONE
BEGIN:VEVENT
DTSTART;TZID=UTC:20260419T080000
DTEND;TZID=UTC:20260419T170000
DTSTAMP:20260423T210804
CREATED:20260403T042732Z
LAST-MODIFIED:20260403T131109Z
UID:1149-1776585600-1776618000@mdccpta.net
SUMMARY:Awards Nomination Deadline
DESCRIPTION:Awards
URL:https://mdccpta.net/event/awards-nomination-deadline/
ATTACH;FMTTYPE=image/webp:https://mdccpta.net/wp-content/uploads/2026/04/image-2.webp
END:VEVENT
END:VCALENDAR