BEGIN:VCALENDAR
VERSION:2.0
PRODID:-//Miami-Dade County Council of PTAs/PTSAs - ECPv6.15.20//NONSGML v1.0//EN
CALSCALE:GREGORIAN
METHOD:PUBLISH
X-WR-CALNAME:Miami-Dade County Council of PTAs/PTSAs
X-ORIGINAL-URL:https://mdccpta.net
X-WR-CALDESC:Events for Miami-Dade County Council of PTAs/PTSAs
REFRESH-INTERVAL;VALUE=DURATION:PT1H
X-Robots-Tag:noindex
X-PUBLISHED-TTL:PT1H
BEGIN:VTIMEZONE
TZID:UTC
BEGIN:STANDARD
TZOFFSETFROM:+0000
TZOFFSETTO:+0000
TZNAME:UTC
DTSTART:20250101T000000
END:STANDARD
END:VTIMEZONE
BEGIN:VEVENT
DTSTART;TZID=UTC:20260409T190000
DTEND;TZID=UTC:20260409T220000
DTSTAMP:20260423T232051
CREATED:20260403T025718Z
LAST-MODIFIED:20260406T033214Z
UID:1134-1775761200-1775772000@mdccpta.net
SUMMARY:Elections Reminder/4th General Meeting (Miami-Dade County Council Officer Nominees 2026-2028)
DESCRIPTION:The elections of the Miami-Dade County Council of PTAs/PTSAs will be held on Thursday\, April 9th at 7:00 pm at the School Board Auditorium\, 1450 NE 2nd Avenue\, Miami FL 33132. Credentialing for the meeting will begin at 6:00 pm. Light refreshments will be provided. \nEach local unit is allowed votes from the President or another officer\, the Principal\, or their designee\, and up to nine additional delegates as determined by their Board of Directors. Delegates must present a membership card (either printed or electronic) and their identification. \nThe Miami-Dade County Council Nominating Committee announces a revision to the 2026-2028 Slate of Candidates. \n  \n2026-2028 Slated Officers \nPresident–Jackie Gonzalez-Cuba \n1st VP–Nancy Vega \n2nd VP–Melissa Morales \n3rd VP–Aundrea Wilder \n4th VP–Norma Perez-Schwartz \nTreasurer–Enrique Escallon \nRecording Secretary–Janielle Murphy \nCorresponding Secretary–Isabel Aguilar \n  \nRespectfully\, The 2026 Nominating Committee: \nMaria Norton\, Chair \nIsabel Aguilar \nJanielle Murphy \nCarolyn Nelson-Goedert \nEunice Flowers \nRosa Lopez \nEnrique Escallon \nImportant Reminder: \nAdditionally\, we will be conducting our 4th General Meeting during this time
URL:https://mdccpta.net/event/elections-reminder-4th-general-meeting-miami-dade-county-council-officer-nominees-2026-2028/
END:VEVENT
BEGIN:VEVENT
DTSTART;TZID=UTC:20260411T100000
DTEND;TZID=UTC:20260411T130000
DTSTAMP:20260423T232051
CREATED:20260403T042003Z
LAST-MODIFIED:20260403T064722Z
UID:1144-1775901600-1775912400@mdccpta.net
SUMMARY:MDCPS Spring Fest
DESCRIPTION:Hosted by The Parent Academy – Community Resource Hub @ Hialeah 5801 East 7th Avenue\, Hialeah\, FL 33013
URL:https://mdccpta.net/event/mdcps-spring-fest/
ATTACH;FMTTYPE=image/png:https://mdccpta.net/wp-content/uploads/2026/04/mdcps-spring-fest.png
END:VEVENT
BEGIN:VEVENT
DTSTART;TZID=UTC:20260419T080000
DTEND;TZID=UTC:20260419T170000
DTSTAMP:20260423T232051
CREATED:20260403T042732Z
LAST-MODIFIED:20260403T131109Z
UID:1149-1776585600-1776618000@mdccpta.net
SUMMARY:Awards Nomination Deadline
DESCRIPTION:Awards
URL:https://mdccpta.net/event/awards-nomination-deadline/
ATTACH;FMTTYPE=image/webp:https://mdccpta.net/wp-content/uploads/2026/04/image-2.webp
END:VEVENT
BEGIN:VEVENT
DTSTART;TZID=UTC:20260423T080000
DTEND;TZID=UTC:20260423T170000
DTSTAMP:20260423T232051
CREATED:20260403T061231Z
LAST-MODIFIED:20260403T064533Z
UID:1154-1776931200-1776963600@mdccpta.net
SUMMARY:Take Your Sons & Daughters To Work Day
DESCRIPTION:
URL:https://mdccpta.net/event/take-your-sons-daughters-to-work-day/
ATTACH;FMTTYPE=image/webp:https://mdccpta.net/wp-content/uploads/2026/04/ChatGPT-Image-Apr-3-2026-02_15_47-PM.webp
END:VEVENT
BEGIN:VEVENT
DTSTART;TZID=UTC:20260501T080000
DTEND;TZID=UTC:20260501T170000
DTSTAMP:20260423T232051
CREATED:20251013T133825Z
LAST-MODIFIED:20251013T133825Z
UID:872-1777622400-1777654800@mdccpta.net
SUMMARY:🏆 End-of-Year Awards Gala
DESCRIPTION:Ways to Support: \n·  Celebrate and recognize local PTA achievements \n·  Vendor Table & Bag Stuffing \n·  Bag Sponsor — 200 large branded bags \n·  Scholarship Raffle Basket \n·  Door Prize for Passport Holders \n·  Print our event programs
URL:https://mdccpta.net/event/%f0%9f%8f%86-end-of-year-awards-gala/
END:VEVENT
BEGIN:VEVENT
DTSTART;TZID=UTC:20260514T174000
DTEND;TZID=UTC:20260514T230000
DTSTAMP:20260423T232051
CREATED:20260403T062804Z
LAST-MODIFIED:20260403T062804Z
UID:1168-1778780400-1778799600@mdccpta.net
SUMMARY:MDCCPTA Annual Awards Gala: Let's Have a WICKED Good Time!
DESCRIPTION:Purchase tickets here: https://lp.constantcontactpages.com/ev/reg/jedutqg
URL:https://mdccpta.net/event/mdccpta-annual-awards-gala-lets-have-a-wicked-good-time/
ATTACH;FMTTYPE=image/webp:https://mdccpta.net/wp-content/uploads/2026/04/wicked-invitation.webp
END:VEVENT
BEGIN:VEVENT
DTSTART;VALUE=DATE:20260618
DTEND;VALUE=DATE:20260621
DTSTAMP:20260423T232051
CREATED:20260403T063304Z
LAST-MODIFIED:20260403T063304Z
UID:1176-1781740800-1781999999@mdccpta.net
SUMMARY:National PTA Convention
DESCRIPTION:2026 Convention in Pittsburg\, PA
URL:https://mdccpta.net/event/national-pta-convention/
ATTACH;FMTTYPE=image/png:https://mdccpta.net/wp-content/uploads/2026/04/image-3.png
END:VEVENT
BEGIN:VEVENT
DTSTART;TZID=UTC:20260709T080000
DTEND;TZID=UTC:20260712T170000
DTSTAMP:20260423T232051
CREATED:20260406T032303Z
LAST-MODIFIED:20260406T032303Z
UID:1210-1783584000-1783875600@mdccpta.net
SUMMARY:Florida PTA Convention
DESCRIPTION:Link to register: https://bmhkxnnkwunuupi.eventify.io/t2/tickets
URL:https://mdccpta.net/event/florida-pta-convention/
ATTACH;FMTTYPE=image/webp:https://mdccpta.net/wp-content/uploads/2026/04/image-4.webp
END:VEVENT
END:VCALENDAR