BEGIN:VCALENDAR
VERSION:2.0
PRODID:-//Miami-Dade County Council of PTAs/PTSAs - ECPv6.15.20//NONSGML v1.0//EN
CALSCALE:GREGORIAN
METHOD:PUBLISH
X-WR-CALNAME:Miami-Dade County Council of PTAs/PTSAs
X-ORIGINAL-URL:https://mdccpta.net
X-WR-CALDESC:Events for Miami-Dade County Council of PTAs/PTSAs
REFRESH-INTERVAL;VALUE=DURATION:PT1H
X-Robots-Tag:noindex
X-PUBLISHED-TTL:PT1H
BEGIN:VTIMEZONE
TZID:UTC
BEGIN:STANDARD
TZOFFSETFROM:+0000
TZOFFSETTO:+0000
TZNAME:UTC
DTSTART:20240101T000000
END:STANDARD
END:VTIMEZONE
BEGIN:VEVENT
DTSTART;TZID=UTC:20250813T080000
DTEND;TZID=UTC:20250813T170000
DTSTAMP:20260424T140151
CREATED:20250812T025147Z
LAST-MODIFIED:20260403T025007Z
UID:229-1755072000-1755104400@mdccpta.net
SUMMARY:MDCPS School Starts
DESCRIPTION:Miami-Dade County Public Schools officially kicks off the new academic year! Students\, families\, teachers\, and staff return to campuses across the district\, ready for a year of learning\, growth\, and success. Join us in welcoming back over 350\,000 students and celebrating the start of another exciting school year.
URL:https://mdccpta.net/event/mdcps-school-starts/
ATTACH;FMTTYPE=image/png:https://mdccpta.net/wp-content/uploads/2025/08/event1.png
END:VEVENT
END:VCALENDAR