BEGIN:VCALENDAR
VERSION:2.0
PRODID:-//Miami-Dade County Council of PTAs/PTSAs - ECPv6.15.20//NONSGML v1.0//EN
CALSCALE:GREGORIAN
METHOD:PUBLISH
X-WR-CALNAME:Miami-Dade County Council of PTAs/PTSAs
X-ORIGINAL-URL:https://mdccpta.net
X-WR-CALDESC:Events for Miami-Dade County Council of PTAs/PTSAs
REFRESH-INTERVAL;VALUE=DURATION:PT1H
X-Robots-Tag:noindex
X-PUBLISHED-TTL:PT1H
BEGIN:VTIMEZONE
TZID:UTC
BEGIN:STANDARD
TZOFFSETFROM:+0000
TZOFFSETTO:+0000
TZNAME:UTC
DTSTART:20250101T000000
END:STANDARD
END:VTIMEZONE
BEGIN:VEVENT
DTSTART;TZID=UTC:20260117T080000
DTEND;TZID=UTC:20260117T170000
DTSTAMP:20260424T003845
CREATED:20251205T095121Z
LAST-MODIFIED:20251205T095121Z
UID:905-1768636800-1768669200@mdccpta.net
SUMMARY:Color Runnnn!!
DESCRIPTION:Help us improve Ultimate Addons for Elementor and our other products! \nWith your permission\, we’d like to collect non-sensitive information from your website — like your PHP version and which features you use — so we can fix bugs faster\, make smarter decisions\, and build features that actually matt
URL:https://mdccpta.net/event/color-runnnn/
LOCATION:homestead
ATTACH;FMTTYPE=image/webp:https://mdccpta.net/wp-content/uploads/2025/08/event2.webp
END:VEVENT
END:VCALENDAR